BEGIN:VCALENDAR
VERSION:2.0
PRODID:-//sb Bake - ECPv6.15.20//NONSGML v1.0//EN
CALSCALE:GREGORIAN
METHOD:PUBLISH
X-ORIGINAL-URL:https://sbbake.com
X-WR-CALDESC:Events for sb Bake
REFRESH-INTERVAL;VALUE=DURATION:PT1H
X-Robots-Tag:noindex
X-PUBLISHED-TTL:PT1H
BEGIN:VTIMEZONE
TZID:UTC
BEGIN:STANDARD
TZOFFSETFROM:+0000
TZOFFSETTO:+0000
TZNAME:UTC
DTSTART:20260101T000000
END:STANDARD
END:VTIMEZONE
BEGIN:VEVENT
DTSTART;VALUE=DATE:20270506
DTEND;VALUE=DATE:20270507
DTSTAMP:20260422T160132
CREATED:20221013T045541Z
LAST-MODIFIED:20221013T054059Z
UID:10001724-1809561600-1809647999@sbbake.com
SUMMARY:Thursday Menu
DESCRIPTION:Sorry\, we couldn't find any posts. Please try a different search.
URL:https://sbbake.com/event/thursday-menu/2027-05-06/
CATEGORIES:WeeklyMenuItems
END:VEVENT
BEGIN:VEVENT
DTSTART;VALUE=DATE:20270507
DTEND;VALUE=DATE:20270508
DTSTAMP:20260422T160132
CREATED:20221013T045724Z
LAST-MODIFIED:20221013T054127Z
UID:10001985-1809648000-1809734399@sbbake.com
SUMMARY:Friday Menu
DESCRIPTION:Mini Date-Coconut Cake- Doughnuts\n\n			\n		\n	\n			\n				\n\n			\n			\n	\n\n	\n\n\n\n\n\n    Oatmeal-Animal Cookies Pack
URL:https://sbbake.com/event/friday-menu/2027-05-07/
CATEGORIES:WeeklyMenuItems
END:VEVENT
BEGIN:VEVENT
DTSTART;VALUE=DATE:20270508
DTEND;VALUE=DATE:20270509
DTSTAMP:20260422T160133
CREATED:20221013T045940Z
LAST-MODIFIED:20221013T054136Z
UID:10002246-1809734400-1809820799@sbbake.com
SUMMARY:Saturday Menu
DESCRIPTION:White Chocolate-Matcha Cookies
URL:https://sbbake.com/event/saturday-menu/2027-05-08/
CATEGORIES:WeeklyMenuItems
END:VEVENT
BEGIN:VEVENT
DTSTART;VALUE=DATE:20270509
DTEND;VALUE=DATE:20270510
DTSTAMP:20260422T160133
CREATED:20221013T050152Z
LAST-MODIFIED:20221013T054152Z
UID:10002507-1809820800-1809907199@sbbake.com
SUMMARY:Sunday Menu
DESCRIPTION:Chocolate Chip-Brownie Cookie
URL:https://sbbake.com/event/sunday-menu/2027-05-09/
CATEGORIES:WeeklyMenuItems
END:VEVENT
BEGIN:VEVENT
DTSTART;VALUE=DATE:20270510
DTEND;VALUE=DATE:20270511
DTSTAMP:20260422T160133
CREATED:20221013T044830Z
LAST-MODIFIED:20221013T044937Z
UID:10000940-1809907200-1809993599@sbbake.com
SUMMARY:Monday Menu
DESCRIPTION:Sprinkles and Smarties Caramelize Cookies\n\n			\n		\n	\n			\n				\n\n			\n			\n	\n\n	\n\n\n\n\n\n    Dulce de leche and Nuts Caramelize Cookies\n\n			\n		\n	\n			\n				\n\n			\n			\n	\n\n	\n\n\n\n\n\n    Spice Date Cake
URL:https://sbbake.com/event/2714/2027-05-10/
CATEGORIES:WeeklyMenuItems
END:VEVENT
BEGIN:VEVENT
DTSTART;VALUE=DATE:20270511
DTEND;VALUE=DATE:20270512
DTSTAMP:20260422T160133
CREATED:20221013T045211Z
LAST-MODIFIED:20221013T053353Z
UID:10001202-1809993600-1810079999@sbbake.com
SUMMARY:Tuesday Menu
DESCRIPTION:Lemon-Blueberry Pound Cake\n\n			\n		\n	\n			\n				\n\n			\n			\n	\n\n	\n\n\n\n\n\n    Mini Orange-Cocoa Cakes
URL:https://sbbake.com/event/tuesday-menu/2027-05-11/
CATEGORIES:WeeklyMenuItems
END:VEVENT
BEGIN:VEVENT
DTSTART;VALUE=DATE:20270512
DTEND;VALUE=DATE:20270513
DTSTAMP:20260422T160133
CREATED:20221013T045340Z
LAST-MODIFIED:20221013T053706Z
UID:10001464-1810080000-1810166399@sbbake.com
SUMMARY:Wednesday Menu
DESCRIPTION:Colorful Cookies\n\n			\n		\n	\n			\n				\n\n			\n			\n	\n\n	\n\n\n\n\n\n    Banana- Caramel and Walnut Travel Cake
URL:https://sbbake.com/event/wednesday/2027-05-12/
CATEGORIES:WeeklyMenuItems
END:VEVENT
BEGIN:VEVENT
DTSTART;VALUE=DATE:20270513
DTEND;VALUE=DATE:20270514
DTSTAMP:20260422T160133
CREATED:20221013T045541Z
LAST-MODIFIED:20221013T054059Z
UID:10001725-1810166400-1810252799@sbbake.com
SUMMARY:Thursday Menu
DESCRIPTION:Irish Apple-Crumble Cake
URL:https://sbbake.com/event/thursday-menu/2027-05-13/
CATEGORIES:WeeklyMenuItems
END:VEVENT
BEGIN:VEVENT
DTSTART;VALUE=DATE:20270514
DTEND;VALUE=DATE:20270515
DTSTAMP:20260422T160133
CREATED:20221013T045724Z
LAST-MODIFIED:20221013T054127Z
UID:10001986-1810252800-1810339199@sbbake.com
SUMMARY:Friday Menu
DESCRIPTION:Mini Date-Coconut Cake- Doughnuts\n\n			\n		\n	\n			\n				\n\n			\n			\n	\n\n	\n\n\n\n\n\n    Oatmeal-Animal Cookies Pack
URL:https://sbbake.com/event/friday-menu/2027-05-14/
CATEGORIES:WeeklyMenuItems
END:VEVENT
BEGIN:VEVENT
DTSTART;VALUE=DATE:20270515
DTEND;VALUE=DATE:20270516
DTSTAMP:20260422T160133
CREATED:20221013T045940Z
LAST-MODIFIED:20221013T054136Z
UID:10002247-1810339200-1810425599@sbbake.com
SUMMARY:Saturday Menu
DESCRIPTION:White Chocolate-Matcha Cookies
URL:https://sbbake.com/event/saturday-menu/2027-05-15/
CATEGORIES:WeeklyMenuItems
END:VEVENT
BEGIN:VEVENT
DTSTART;VALUE=DATE:20270516
DTEND;VALUE=DATE:20270517
DTSTAMP:20260422T160133
CREATED:20221013T050152Z
LAST-MODIFIED:20221013T054152Z
UID:10002508-1810425600-1810511999@sbbake.com
SUMMARY:Sunday Menu
DESCRIPTION:Chocolate Chip-Brownie Cookie
URL:https://sbbake.com/event/sunday-menu/2027-05-16/
CATEGORIES:WeeklyMenuItems
END:VEVENT
BEGIN:VEVENT
DTSTART;VALUE=DATE:20270517
DTEND;VALUE=DATE:20270518
DTSTAMP:20260422T160133
CREATED:20221013T044830Z
LAST-MODIFIED:20221013T044937Z
UID:10000941-1810512000-1810598399@sbbake.com
SUMMARY:Monday Menu
DESCRIPTION:Sprinkles and Smarties Caramelize Cookies\n\n			\n		\n	\n			\n				\n\n			\n			\n	\n\n	\n\n\n\n\n\n    Dulce de leche and Nuts Caramelize Cookies\n\n			\n		\n	\n			\n				\n\n			\n			\n	\n\n	\n\n\n\n\n\n    Spice Date Cake
URL:https://sbbake.com/event/2714/2027-05-17/
CATEGORIES:WeeklyMenuItems
END:VEVENT
BEGIN:VEVENT
DTSTART;VALUE=DATE:20270518
DTEND;VALUE=DATE:20270519
DTSTAMP:20260422T160133
CREATED:20221013T045211Z
LAST-MODIFIED:20221013T053353Z
UID:10001203-1810598400-1810684799@sbbake.com
SUMMARY:Tuesday Menu
DESCRIPTION:Lemon-Blueberry Pound Cake\n\n			\n		\n	\n			\n				\n\n			\n			\n	\n\n	\n\n\n\n\n\n    Mini Orange-Cocoa Cakes
URL:https://sbbake.com/event/tuesday-menu/2027-05-18/
CATEGORIES:WeeklyMenuItems
END:VEVENT
BEGIN:VEVENT
DTSTART;VALUE=DATE:20270519
DTEND;VALUE=DATE:20270520
DTSTAMP:20260422T160133
CREATED:20221013T045340Z
LAST-MODIFIED:20221013T053706Z
UID:10001465-1810684800-1810771199@sbbake.com
SUMMARY:Wednesday Menu
DESCRIPTION:Colorful Cookies\n\n			\n		\n	\n			\n				\n\n			\n			\n	\n\n	\n\n\n\n\n\n    Banana- Caramel and Walnut Travel Cake
URL:https://sbbake.com/event/wednesday/2027-05-19/
CATEGORIES:WeeklyMenuItems
END:VEVENT
BEGIN:VEVENT
DTSTART;VALUE=DATE:20270520
DTEND;VALUE=DATE:20270521
DTSTAMP:20260422T160133
CREATED:20221013T045541Z
LAST-MODIFIED:20221013T054059Z
UID:10001726-1810771200-1810857599@sbbake.com
SUMMARY:Thursday Menu
DESCRIPTION:Irish Apple-Crumble Cake
URL:https://sbbake.com/event/thursday-menu/2027-05-20/
CATEGORIES:WeeklyMenuItems
END:VEVENT
BEGIN:VEVENT
DTSTART;VALUE=DATE:20270521
DTEND;VALUE=DATE:20270522
DTSTAMP:20260422T160133
CREATED:20221013T045724Z
LAST-MODIFIED:20221013T054127Z
UID:10001987-1810857600-1810943999@sbbake.com
SUMMARY:Friday Menu
DESCRIPTION:Mini Date-Coconut Cake- Doughnuts\n\n			\n		\n	\n			\n				\n\n			\n			\n	\n\n	\n\n\n\n\n\n    Oatmeal-Animal Cookies Pack
URL:https://sbbake.com/event/friday-menu/2027-05-21/
CATEGORIES:WeeklyMenuItems
END:VEVENT
BEGIN:VEVENT
DTSTART;VALUE=DATE:20270522
DTEND;VALUE=DATE:20270523
DTSTAMP:20260422T160133
CREATED:20221013T045940Z
LAST-MODIFIED:20221013T054136Z
UID:10002248-1810944000-1811030399@sbbake.com
SUMMARY:Saturday Menu
DESCRIPTION:White Chocolate-Matcha Cookies
URL:https://sbbake.com/event/saturday-menu/2027-05-22/
CATEGORIES:WeeklyMenuItems
END:VEVENT
BEGIN:VEVENT
DTSTART;VALUE=DATE:20270523
DTEND;VALUE=DATE:20270524
DTSTAMP:20260422T160133
CREATED:20221013T050152Z
LAST-MODIFIED:20221013T054152Z
UID:10002509-1811030400-1811116799@sbbake.com
SUMMARY:Sunday Menu
DESCRIPTION:Chocolate Chip-Brownie Cookie
URL:https://sbbake.com/event/sunday-menu/2027-05-23/
CATEGORIES:WeeklyMenuItems
END:VEVENT
BEGIN:VEVENT
DTSTART;VALUE=DATE:20270524
DTEND;VALUE=DATE:20270525
DTSTAMP:20260422T160133
CREATED:20221013T044830Z
LAST-MODIFIED:20221013T044937Z
UID:10000942-1811116800-1811203199@sbbake.com
SUMMARY:Monday Menu
DESCRIPTION:Sprinkles and Smarties Caramelize Cookies\n\n			\n		\n	\n			\n				\n\n			\n			\n	\n\n	\n\n\n\n\n\n    Dulce de leche and Nuts Caramelize Cookies\n\n			\n		\n	\n			\n				\n\n			\n			\n	\n\n	\n\n\n\n\n\n    Spice Date Cake
URL:https://sbbake.com/event/2714/2027-05-24/
CATEGORIES:WeeklyMenuItems
END:VEVENT
BEGIN:VEVENT
DTSTART;VALUE=DATE:20270525
DTEND;VALUE=DATE:20270526
DTSTAMP:20260422T160133
CREATED:20221013T045211Z
LAST-MODIFIED:20221013T053353Z
UID:10001204-1811203200-1811289599@sbbake.com
SUMMARY:Tuesday Menu
DESCRIPTION:Lemon-Blueberry Pound Cake\n\n			\n		\n	\n			\n				\n\n			\n			\n	\n\n	\n\n\n\n\n\n    Mini Orange-Cocoa Cakes
URL:https://sbbake.com/event/tuesday-menu/2027-05-25/
CATEGORIES:WeeklyMenuItems
END:VEVENT
BEGIN:VEVENT
DTSTART;VALUE=DATE:20270526
DTEND;VALUE=DATE:20270527
DTSTAMP:20260422T160133
CREATED:20221013T045340Z
LAST-MODIFIED:20221013T053706Z
UID:10001466-1811289600-1811375999@sbbake.com
SUMMARY:Wednesday Menu
DESCRIPTION:Colorful Cookies\n\n			\n		\n	\n			\n				\n\n			\n			\n	\n\n	\n\n\n\n\n\n    Banana- Caramel and Walnut Travel Cake
URL:https://sbbake.com/event/wednesday/2027-05-26/
CATEGORIES:WeeklyMenuItems
END:VEVENT
BEGIN:VEVENT
DTSTART;VALUE=DATE:20270527
DTEND;VALUE=DATE:20270528
DTSTAMP:20260422T160133
CREATED:20221013T045541Z
LAST-MODIFIED:20221013T054059Z
UID:10001727-1811376000-1811462399@sbbake.com
SUMMARY:Thursday Menu
DESCRIPTION:Irish Apple-Crumble Cake
URL:https://sbbake.com/event/thursday-menu/2027-05-27/
CATEGORIES:WeeklyMenuItems
END:VEVENT
BEGIN:VEVENT
DTSTART;VALUE=DATE:20270528
DTEND;VALUE=DATE:20270529
DTSTAMP:20260422T160133
CREATED:20221013T045724Z
LAST-MODIFIED:20221013T054127Z
UID:10001988-1811462400-1811548799@sbbake.com
SUMMARY:Friday Menu
DESCRIPTION:Mini Date-Coconut Cake- Doughnuts\n\n			\n		\n	\n			\n				\n\n			\n			\n	\n\n	\n\n\n\n\n\n    Oatmeal-Animal Cookies Pack
URL:https://sbbake.com/event/friday-menu/2027-05-28/
CATEGORIES:WeeklyMenuItems
END:VEVENT
BEGIN:VEVENT
DTSTART;VALUE=DATE:20270529
DTEND;VALUE=DATE:20270530
DTSTAMP:20260422T160133
CREATED:20221013T045940Z
LAST-MODIFIED:20221013T054136Z
UID:10002249-1811548800-1811635199@sbbake.com
SUMMARY:Saturday Menu
DESCRIPTION:White Chocolate-Matcha Cookies
URL:https://sbbake.com/event/saturday-menu/2027-05-29/
CATEGORIES:WeeklyMenuItems
END:VEVENT
BEGIN:VEVENT
DTSTART;VALUE=DATE:20270530
DTEND;VALUE=DATE:20270531
DTSTAMP:20260422T160133
CREATED:20221013T050152Z
LAST-MODIFIED:20221013T054152Z
UID:10002510-1811635200-1811721599@sbbake.com
SUMMARY:Sunday Menu
DESCRIPTION:Chocolate Chip-Brownie Cookie
URL:https://sbbake.com/event/sunday-menu/2027-05-30/
CATEGORIES:WeeklyMenuItems
END:VEVENT
BEGIN:VEVENT
DTSTART;VALUE=DATE:20270531
DTEND;VALUE=DATE:20270601
DTSTAMP:20260422T160133
CREATED:20221013T044830Z
LAST-MODIFIED:20221013T044937Z
UID:10000943-1811721600-1811807999@sbbake.com
SUMMARY:Monday Menu
DESCRIPTION:Sprinkles and Smarties Caramelize Cookies\n\n			\n		\n	\n			\n				\n\n			\n			\n	\n\n	\n\n\n\n\n\n    Dulce de leche and Nuts Caramelize Cookies\n\n			\n		\n	\n			\n				\n\n			\n			\n	\n\n	\n\n\n\n\n\n    Spice Date Cake
URL:https://sbbake.com/event/2714/2027-05-31/
CATEGORIES:WeeklyMenuItems
END:VEVENT
BEGIN:VEVENT
DTSTART;VALUE=DATE:20270601
DTEND;VALUE=DATE:20270602
DTSTAMP:20260422T160133
CREATED:20221013T045211Z
LAST-MODIFIED:20221013T053353Z
UID:10001205-1811808000-1811894399@sbbake.com
SUMMARY:Tuesday Menu
DESCRIPTION:Lemon-Blueberry Pound Cake\n\n			\n		\n	\n			\n				\n\n			\n			\n	\n\n	\n\n\n\n\n\n    Mini Orange-Cocoa Cakes
URL:https://sbbake.com/event/tuesday-menu/2027-06-01/
CATEGORIES:WeeklyMenuItems
END:VEVENT
BEGIN:VEVENT
DTSTART;VALUE=DATE:20270602
DTEND;VALUE=DATE:20270603
DTSTAMP:20260422T160133
CREATED:20221013T045340Z
LAST-MODIFIED:20221013T053706Z
UID:10001467-1811894400-1811980799@sbbake.com
SUMMARY:Wednesday Menu
DESCRIPTION:Colorful Cookies\n\n			\n		\n	\n			\n				\n\n			\n			\n	\n\n	\n\n\n\n\n\n    Banana- Caramel and Walnut Travel Cake
URL:https://sbbake.com/event/wednesday/2027-06-02/
CATEGORIES:WeeklyMenuItems
END:VEVENT
BEGIN:VEVENT
DTSTART;VALUE=DATE:20270603
DTEND;VALUE=DATE:20270604
DTSTAMP:20260422T160133
CREATED:20221013T045541Z
LAST-MODIFIED:20221013T054059Z
UID:10001728-1811980800-1812067199@sbbake.com
SUMMARY:Thursday Menu
DESCRIPTION:Irish Apple-Crumble Cake
URL:https://sbbake.com/event/thursday-menu/2027-06-03/
CATEGORIES:WeeklyMenuItems
END:VEVENT
BEGIN:VEVENT
DTSTART;VALUE=DATE:20270604
DTEND;VALUE=DATE:20270605
DTSTAMP:20260422T160133
CREATED:20221013T045724Z
LAST-MODIFIED:20221013T054127Z
UID:10001989-1812067200-1812153599@sbbake.com
SUMMARY:Friday Menu
DESCRIPTION:Mini Date-Coconut Cake- Doughnuts\n\n			\n		\n	\n			\n				\n\n			\n			\n	\n\n	\n\n\n\n\n\n    Oatmeal-Animal Cookies Pack
URL:https://sbbake.com/event/friday-menu/2027-06-04/
CATEGORIES:WeeklyMenuItems
END:VEVENT
END:VCALENDAR