BEGIN:VCALENDAR
VERSION:2.0
PRODID:-//sb Bake - ECPv6.15.20//NONSGML v1.0//EN
CALSCALE:GREGORIAN
METHOD:PUBLISH
X-WR-CALNAME:sb Bake
X-ORIGINAL-URL:https://sbbake.com
X-WR-CALDESC:Events for sb Bake
REFRESH-INTERVAL;VALUE=DURATION:PT1H
X-Robots-Tag:noindex
X-PUBLISHED-TTL:PT1H
BEGIN:VTIMEZONE
TZID:UTC
BEGIN:STANDARD
TZOFFSETFROM:+0000
TZOFFSETTO:+0000
TZNAME:UTC
DTSTART:20260101T000000
END:STANDARD
END:VTIMEZONE
BEGIN:VEVENT
DTSTART;VALUE=DATE:20270615
DTEND;VALUE=DATE:20270616
DTSTAMP:20260422T144547
CREATED:20221013T045211Z
LAST-MODIFIED:20221013T053353Z
UID:10001207-1813017600-1813103999@sbbake.com
SUMMARY:Tuesday Menu
DESCRIPTION:Sorry\, we couldn't find any posts. Please try a different search.
URL:https://sbbake.com/event/tuesday-menu/2027-06-15/
CATEGORIES:WeeklyMenuItems
END:VEVENT
BEGIN:VEVENT
DTSTART;VALUE=DATE:20270616
DTEND;VALUE=DATE:20270617
DTSTAMP:20260422T144547
CREATED:20221013T045340Z
LAST-MODIFIED:20221013T053706Z
UID:10001469-1813104000-1813190399@sbbake.com
SUMMARY:Wednesday Menu
DESCRIPTION:Colorful Cookies\n\n			\n		\n	\n			\n				\n\n			\n			\n	\n\n	\n\n\n\n\n\n    Banana- Caramel and Walnut Travel Cake
URL:https://sbbake.com/event/wednesday/2027-06-16/
CATEGORIES:WeeklyMenuItems
END:VEVENT
BEGIN:VEVENT
DTSTART;VALUE=DATE:20270617
DTEND;VALUE=DATE:20270618
DTSTAMP:20260422T144547
CREATED:20221013T045541Z
LAST-MODIFIED:20221013T054059Z
UID:10001730-1813190400-1813276799@sbbake.com
SUMMARY:Thursday Menu
DESCRIPTION:Irish Apple-Crumble Cake
URL:https://sbbake.com/event/thursday-menu/2027-06-17/
CATEGORIES:WeeklyMenuItems
END:VEVENT
BEGIN:VEVENT
DTSTART;VALUE=DATE:20270618
DTEND;VALUE=DATE:20270619
DTSTAMP:20260422T144547
CREATED:20221013T045724Z
LAST-MODIFIED:20221013T054127Z
UID:10001991-1813276800-1813363199@sbbake.com
SUMMARY:Friday Menu
DESCRIPTION:Mini Date-Coconut Cake- Doughnuts\n\n			\n		\n	\n			\n				\n\n			\n			\n	\n\n	\n\n\n\n\n\n    Oatmeal-Animal Cookies Pack
URL:https://sbbake.com/event/friday-menu/2027-06-18/
CATEGORIES:WeeklyMenuItems
END:VEVENT
BEGIN:VEVENT
DTSTART;VALUE=DATE:20270619
DTEND;VALUE=DATE:20270620
DTSTAMP:20260422T144547
CREATED:20221013T045940Z
LAST-MODIFIED:20221013T054136Z
UID:10002252-1813363200-1813449599@sbbake.com
SUMMARY:Saturday Menu
DESCRIPTION:White Chocolate-Matcha Cookies
URL:https://sbbake.com/event/saturday-menu/2027-06-19/
CATEGORIES:WeeklyMenuItems
END:VEVENT
BEGIN:VEVENT
DTSTART;VALUE=DATE:20270620
DTEND;VALUE=DATE:20270621
DTSTAMP:20260422T144547
CREATED:20221013T050152Z
LAST-MODIFIED:20221013T054152Z
UID:10002513-1813449600-1813535999@sbbake.com
SUMMARY:Sunday Menu
DESCRIPTION:Chocolate Chip-Brownie Cookie
URL:https://sbbake.com/event/sunday-menu/2027-06-20/
CATEGORIES:WeeklyMenuItems
END:VEVENT
BEGIN:VEVENT
DTSTART;VALUE=DATE:20270621
DTEND;VALUE=DATE:20270622
DTSTAMP:20260422T144547
CREATED:20221013T044830Z
LAST-MODIFIED:20221013T044937Z
UID:10000946-1813536000-1813622399@sbbake.com
SUMMARY:Monday Menu
DESCRIPTION:Sprinkles and Smarties Caramelize Cookies\n\n			\n		\n	\n			\n				\n\n			\n			\n	\n\n	\n\n\n\n\n\n    Dulce de leche and Nuts Caramelize Cookies\n\n			\n		\n	\n			\n				\n\n			\n			\n	\n\n	\n\n\n\n\n\n    Spice Date Cake
URL:https://sbbake.com/event/2714/2027-06-21/
CATEGORIES:WeeklyMenuItems
END:VEVENT
BEGIN:VEVENT
DTSTART;VALUE=DATE:20270622
DTEND;VALUE=DATE:20270623
DTSTAMP:20260422T144547
CREATED:20221013T045211Z
LAST-MODIFIED:20221013T053353Z
UID:10001208-1813622400-1813708799@sbbake.com
SUMMARY:Tuesday Menu
DESCRIPTION:Lemon-Blueberry Pound Cake\n\n			\n		\n	\n			\n				\n\n			\n			\n	\n\n	\n\n\n\n\n\n    Mini Orange-Cocoa Cakes
URL:https://sbbake.com/event/tuesday-menu/2027-06-22/
CATEGORIES:WeeklyMenuItems
END:VEVENT
BEGIN:VEVENT
DTSTART;VALUE=DATE:20270623
DTEND;VALUE=DATE:20270624
DTSTAMP:20260422T144547
CREATED:20221013T045340Z
LAST-MODIFIED:20221013T053706Z
UID:10001470-1813708800-1813795199@sbbake.com
SUMMARY:Wednesday Menu
DESCRIPTION:Colorful Cookies\n\n			\n		\n	\n			\n				\n\n			\n			\n	\n\n	\n\n\n\n\n\n    Banana- Caramel and Walnut Travel Cake
URL:https://sbbake.com/event/wednesday/2027-06-23/
CATEGORIES:WeeklyMenuItems
END:VEVENT
BEGIN:VEVENT
DTSTART;VALUE=DATE:20270624
DTEND;VALUE=DATE:20270625
DTSTAMP:20260422T144547
CREATED:20221013T045541Z
LAST-MODIFIED:20221013T054059Z
UID:10001731-1813795200-1813881599@sbbake.com
SUMMARY:Thursday Menu
DESCRIPTION:Irish Apple-Crumble Cake
URL:https://sbbake.com/event/thursday-menu/2027-06-24/
CATEGORIES:WeeklyMenuItems
END:VEVENT
BEGIN:VEVENT
DTSTART;VALUE=DATE:20270625
DTEND;VALUE=DATE:20270626
DTSTAMP:20260422T144547
CREATED:20221013T045724Z
LAST-MODIFIED:20221013T054127Z
UID:10001992-1813881600-1813967999@sbbake.com
SUMMARY:Friday Menu
DESCRIPTION:Mini Date-Coconut Cake- Doughnuts\n\n			\n		\n	\n			\n				\n\n			\n			\n	\n\n	\n\n\n\n\n\n    Oatmeal-Animal Cookies Pack
URL:https://sbbake.com/event/friday-menu/2027-06-25/
CATEGORIES:WeeklyMenuItems
END:VEVENT
BEGIN:VEVENT
DTSTART;VALUE=DATE:20270626
DTEND;VALUE=DATE:20270627
DTSTAMP:20260422T144547
CREATED:20221013T045940Z
LAST-MODIFIED:20221013T054136Z
UID:10002253-1813968000-1814054399@sbbake.com
SUMMARY:Saturday Menu
DESCRIPTION:White Chocolate-Matcha Cookies
URL:https://sbbake.com/event/saturday-menu/2027-06-26/
CATEGORIES:WeeklyMenuItems
END:VEVENT
BEGIN:VEVENT
DTSTART;VALUE=DATE:20270627
DTEND;VALUE=DATE:20270628
DTSTAMP:20260422T144547
CREATED:20221013T050152Z
LAST-MODIFIED:20221013T054152Z
UID:10002514-1814054400-1814140799@sbbake.com
SUMMARY:Sunday Menu
DESCRIPTION:Chocolate Chip-Brownie Cookie
URL:https://sbbake.com/event/sunday-menu/2027-06-27/
CATEGORIES:WeeklyMenuItems
END:VEVENT
BEGIN:VEVENT
DTSTART;VALUE=DATE:20270628
DTEND;VALUE=DATE:20270629
DTSTAMP:20260422T144547
CREATED:20221013T044830Z
LAST-MODIFIED:20221013T044937Z
UID:10000947-1814140800-1814227199@sbbake.com
SUMMARY:Monday Menu
DESCRIPTION:Sprinkles and Smarties Caramelize Cookies\n\n			\n		\n	\n			\n				\n\n			\n			\n	\n\n	\n\n\n\n\n\n    Dulce de leche and Nuts Caramelize Cookies\n\n			\n		\n	\n			\n				\n\n			\n			\n	\n\n	\n\n\n\n\n\n    Spice Date Cake
URL:https://sbbake.com/event/2714/2027-06-28/
CATEGORIES:WeeklyMenuItems
END:VEVENT
BEGIN:VEVENT
DTSTART;VALUE=DATE:20270629
DTEND;VALUE=DATE:20270630
DTSTAMP:20260422T144547
CREATED:20221013T045211Z
LAST-MODIFIED:20221013T053353Z
UID:10001209-1814227200-1814313599@sbbake.com
SUMMARY:Tuesday Menu
DESCRIPTION:Lemon-Blueberry Pound Cake\n\n			\n		\n	\n			\n				\n\n			\n			\n	\n\n	\n\n\n\n\n\n    Mini Orange-Cocoa Cakes
URL:https://sbbake.com/event/tuesday-menu/2027-06-29/
CATEGORIES:WeeklyMenuItems
END:VEVENT
BEGIN:VEVENT
DTSTART;VALUE=DATE:20270630
DTEND;VALUE=DATE:20270701
DTSTAMP:20260422T144547
CREATED:20221013T045340Z
LAST-MODIFIED:20221013T053706Z
UID:10001471-1814313600-1814399999@sbbake.com
SUMMARY:Wednesday Menu
DESCRIPTION:Colorful Cookies\n\n			\n		\n	\n			\n				\n\n			\n			\n	\n\n	\n\n\n\n\n\n    Banana- Caramel and Walnut Travel Cake
URL:https://sbbake.com/event/wednesday/2027-06-30/
CATEGORIES:WeeklyMenuItems
END:VEVENT
BEGIN:VEVENT
DTSTART;VALUE=DATE:20270701
DTEND;VALUE=DATE:20270702
DTSTAMP:20260422T144547
CREATED:20221013T045541Z
LAST-MODIFIED:20221013T054059Z
UID:10001732-1814400000-1814486399@sbbake.com
SUMMARY:Thursday Menu
DESCRIPTION:Irish Apple-Crumble Cake
URL:https://sbbake.com/event/thursday-menu/2027-07-01/
CATEGORIES:WeeklyMenuItems
END:VEVENT
BEGIN:VEVENT
DTSTART;VALUE=DATE:20270702
DTEND;VALUE=DATE:20270703
DTSTAMP:20260422T144547
CREATED:20221013T045724Z
LAST-MODIFIED:20221013T054127Z
UID:10001993-1814486400-1814572799@sbbake.com
SUMMARY:Friday Menu
DESCRIPTION:Mini Date-Coconut Cake- Doughnuts\n\n			\n		\n	\n			\n				\n\n			\n			\n	\n\n	\n\n\n\n\n\n    Oatmeal-Animal Cookies Pack
URL:https://sbbake.com/event/friday-menu/2027-07-02/
CATEGORIES:WeeklyMenuItems
END:VEVENT
BEGIN:VEVENT
DTSTART;VALUE=DATE:20270703
DTEND;VALUE=DATE:20270704
DTSTAMP:20260422T144547
CREATED:20221013T045940Z
LAST-MODIFIED:20221013T054136Z
UID:10002254-1814572800-1814659199@sbbake.com
SUMMARY:Saturday Menu
DESCRIPTION:White Chocolate-Matcha Cookies
URL:https://sbbake.com/event/saturday-menu/2027-07-03/
CATEGORIES:WeeklyMenuItems
END:VEVENT
BEGIN:VEVENT
DTSTART;VALUE=DATE:20270704
DTEND;VALUE=DATE:20270705
DTSTAMP:20260422T144547
CREATED:20221013T050152Z
LAST-MODIFIED:20221013T054152Z
UID:10002515-1814659200-1814745599@sbbake.com
SUMMARY:Sunday Menu
DESCRIPTION:Chocolate Chip-Brownie Cookie
URL:https://sbbake.com/event/sunday-menu/2027-07-04/
CATEGORIES:WeeklyMenuItems
END:VEVENT
BEGIN:VEVENT
DTSTART;VALUE=DATE:20270705
DTEND;VALUE=DATE:20270706
DTSTAMP:20260422T144547
CREATED:20221013T044830Z
LAST-MODIFIED:20221013T044937Z
UID:10000948-1814745600-1814831999@sbbake.com
SUMMARY:Monday Menu
DESCRIPTION:Sprinkles and Smarties Caramelize Cookies\n\n			\n		\n	\n			\n				\n\n			\n			\n	\n\n	\n\n\n\n\n\n    Dulce de leche and Nuts Caramelize Cookies\n\n			\n		\n	\n			\n				\n\n			\n			\n	\n\n	\n\n\n\n\n\n    Spice Date Cake
URL:https://sbbake.com/event/2714/2027-07-05/
CATEGORIES:WeeklyMenuItems
END:VEVENT
BEGIN:VEVENT
DTSTART;VALUE=DATE:20270706
DTEND;VALUE=DATE:20270707
DTSTAMP:20260422T144547
CREATED:20221013T045211Z
LAST-MODIFIED:20221013T053353Z
UID:10001210-1814832000-1814918399@sbbake.com
SUMMARY:Tuesday Menu
DESCRIPTION:Lemon-Blueberry Pound Cake\n\n			\n		\n	\n			\n				\n\n			\n			\n	\n\n	\n\n\n\n\n\n    Mini Orange-Cocoa Cakes
URL:https://sbbake.com/event/tuesday-menu/2027-07-06/
CATEGORIES:WeeklyMenuItems
END:VEVENT
BEGIN:VEVENT
DTSTART;VALUE=DATE:20270707
DTEND;VALUE=DATE:20270708
DTSTAMP:20260422T144547
CREATED:20221013T045340Z
LAST-MODIFIED:20221013T053706Z
UID:10001472-1814918400-1815004799@sbbake.com
SUMMARY:Wednesday Menu
DESCRIPTION:Colorful Cookies\n\n			\n		\n	\n			\n				\n\n			\n			\n	\n\n	\n\n\n\n\n\n    Banana- Caramel and Walnut Travel Cake
URL:https://sbbake.com/event/wednesday/2027-07-07/
CATEGORIES:WeeklyMenuItems
END:VEVENT
BEGIN:VEVENT
DTSTART;VALUE=DATE:20270708
DTEND;VALUE=DATE:20270709
DTSTAMP:20260422T144547
CREATED:20221013T045541Z
LAST-MODIFIED:20221013T054059Z
UID:10001733-1815004800-1815091199@sbbake.com
SUMMARY:Thursday Menu
DESCRIPTION:Irish Apple-Crumble Cake
URL:https://sbbake.com/event/thursday-menu/2027-07-08/
CATEGORIES:WeeklyMenuItems
END:VEVENT
BEGIN:VEVENT
DTSTART;VALUE=DATE:20270709
DTEND;VALUE=DATE:20270710
DTSTAMP:20260422T144547
CREATED:20221013T045724Z
LAST-MODIFIED:20221013T054127Z
UID:10001994-1815091200-1815177599@sbbake.com
SUMMARY:Friday Menu
DESCRIPTION:Mini Date-Coconut Cake- Doughnuts\n\n			\n		\n	\n			\n				\n\n			\n			\n	\n\n	\n\n\n\n\n\n    Oatmeal-Animal Cookies Pack
URL:https://sbbake.com/event/friday-menu/2027-07-09/
CATEGORIES:WeeklyMenuItems
END:VEVENT
BEGIN:VEVENT
DTSTART;VALUE=DATE:20270710
DTEND;VALUE=DATE:20270711
DTSTAMP:20260422T144547
CREATED:20221013T045940Z
LAST-MODIFIED:20221013T054136Z
UID:10002255-1815177600-1815263999@sbbake.com
SUMMARY:Saturday Menu
DESCRIPTION:White Chocolate-Matcha Cookies
URL:https://sbbake.com/event/saturday-menu/2027-07-10/
CATEGORIES:WeeklyMenuItems
END:VEVENT
BEGIN:VEVENT
DTSTART;VALUE=DATE:20270711
DTEND;VALUE=DATE:20270712
DTSTAMP:20260422T144547
CREATED:20221013T050152Z
LAST-MODIFIED:20221013T054152Z
UID:10002516-1815264000-1815350399@sbbake.com
SUMMARY:Sunday Menu
DESCRIPTION:Chocolate Chip-Brownie Cookie
URL:https://sbbake.com/event/sunday-menu/2027-07-11/
CATEGORIES:WeeklyMenuItems
END:VEVENT
BEGIN:VEVENT
DTSTART;VALUE=DATE:20270712
DTEND;VALUE=DATE:20270713
DTSTAMP:20260422T144547
CREATED:20221013T044830Z
LAST-MODIFIED:20221013T044937Z
UID:10000949-1815350400-1815436799@sbbake.com
SUMMARY:Monday Menu
DESCRIPTION:Sprinkles and Smarties Caramelize Cookies\n\n			\n		\n	\n			\n				\n\n			\n			\n	\n\n	\n\n\n\n\n\n    Dulce de leche and Nuts Caramelize Cookies\n\n			\n		\n	\n			\n				\n\n			\n			\n	\n\n	\n\n\n\n\n\n    Spice Date Cake
URL:https://sbbake.com/event/2714/2027-07-12/
CATEGORIES:WeeklyMenuItems
END:VEVENT
BEGIN:VEVENT
DTSTART;VALUE=DATE:20270713
DTEND;VALUE=DATE:20270714
DTSTAMP:20260422T144547
CREATED:20221013T045211Z
LAST-MODIFIED:20221013T053353Z
UID:10001211-1815436800-1815523199@sbbake.com
SUMMARY:Tuesday Menu
DESCRIPTION:Lemon-Blueberry Pound Cake\n\n			\n		\n	\n			\n				\n\n			\n			\n	\n\n	\n\n\n\n\n\n    Mini Orange-Cocoa Cakes
URL:https://sbbake.com/event/tuesday-menu/2027-07-13/
CATEGORIES:WeeklyMenuItems
END:VEVENT
BEGIN:VEVENT
DTSTART;VALUE=DATE:20270714
DTEND;VALUE=DATE:20270715
DTSTAMP:20260422T144547
CREATED:20221013T045340Z
LAST-MODIFIED:20221013T053706Z
UID:10001473-1815523200-1815609599@sbbake.com
SUMMARY:Wednesday Menu
DESCRIPTION:Colorful Cookies\n\n			\n		\n	\n			\n				\n\n			\n			\n	\n\n	\n\n\n\n\n\n    Banana- Caramel and Walnut Travel Cake
URL:https://sbbake.com/event/wednesday/2027-07-14/
CATEGORIES:WeeklyMenuItems
END:VEVENT
END:VCALENDAR