BEGIN:VCALENDAR
VERSION:2.0
PRODID:-//sb Bake - ECPv6.15.20//NONSGML v1.0//EN
CALSCALE:GREGORIAN
METHOD:PUBLISH
X-ORIGINAL-URL:https://sbbake.com
X-WR-CALDESC:Events for sb Bake
REFRESH-INTERVAL;VALUE=DURATION:PT1H
X-Robots-Tag:noindex
X-PUBLISHED-TTL:PT1H
BEGIN:VTIMEZONE
TZID:UTC
BEGIN:STANDARD
TZOFFSETFROM:+0000
TZOFFSETTO:+0000
TZNAME:UTC
DTSTART:20260101T000000
END:STANDARD
END:VTIMEZONE
BEGIN:VEVENT
DTSTART;VALUE=DATE:20270426
DTEND;VALUE=DATE:20270427
DTSTAMP:20260422T211511
CREATED:20221013T044830Z
LAST-MODIFIED:20221013T044937Z
UID:10000938-1808697600-1808783999@sbbake.com
SUMMARY:Monday Menu
DESCRIPTION:Sprinkles and Smarties Caramelize Cookies\n\n			\n		\n	\n			\n				\n\n			\n			\n	\n\n	\n\n\n\n\n\n    Dulce de leche and Nuts Caramelize Cookies\n\n			\n		\n	\n			\n				\n\n			\n			\n	\n\n	\n\n\n\n\n\n    Spice Date Cake
URL:https://sbbake.com/event/2714/2027-04-26/
CATEGORIES:WeeklyMenuItems
END:VEVENT
BEGIN:VEVENT
DTSTART;VALUE=DATE:20270427
DTEND;VALUE=DATE:20270428
DTSTAMP:20260422T211511
CREATED:20221013T045211Z
LAST-MODIFIED:20221013T053353Z
UID:10001200-1808784000-1808870399@sbbake.com
SUMMARY:Tuesday Menu
DESCRIPTION:Lemon-Blueberry Pound Cake\n\n			\n		\n	\n			\n				\n\n			\n			\n	\n\n	\n\n\n\n\n\n    Mini Orange-Cocoa Cakes
URL:https://sbbake.com/event/tuesday-menu/2027-04-27/
CATEGORIES:WeeklyMenuItems
END:VEVENT
BEGIN:VEVENT
DTSTART;VALUE=DATE:20270428
DTEND;VALUE=DATE:20270429
DTSTAMP:20260422T211511
CREATED:20221013T045340Z
LAST-MODIFIED:20221013T053706Z
UID:10001462-1808870400-1808956799@sbbake.com
SUMMARY:Wednesday Menu
DESCRIPTION:Colorful Cookies\n\n			\n		\n	\n			\n				\n\n			\n			\n	\n\n	\n\n\n\n\n\n    Banana- Caramel and Walnut Travel Cake
URL:https://sbbake.com/event/wednesday/2027-04-28/
CATEGORIES:WeeklyMenuItems
END:VEVENT
BEGIN:VEVENT
DTSTART;VALUE=DATE:20270429
DTEND;VALUE=DATE:20270430
DTSTAMP:20260422T211511
CREATED:20221013T045541Z
LAST-MODIFIED:20221013T054059Z
UID:10001723-1808956800-1809043199@sbbake.com
SUMMARY:Thursday Menu
DESCRIPTION:Irish Apple-Crumble Cake
URL:https://sbbake.com/event/thursday-menu/2027-04-29/
CATEGORIES:WeeklyMenuItems
END:VEVENT
BEGIN:VEVENT
DTSTART;VALUE=DATE:20270430
DTEND;VALUE=DATE:20270501
DTSTAMP:20260422T211511
CREATED:20221013T045724Z
LAST-MODIFIED:20221013T054127Z
UID:10001984-1809043200-1809129599@sbbake.com
SUMMARY:Friday Menu
DESCRIPTION:Mini Date-Coconut Cake- Doughnuts\n\n			\n		\n	\n			\n				\n\n			\n			\n	\n\n	\n\n\n\n\n\n    Oatmeal-Animal Cookies Pack
URL:https://sbbake.com/event/friday-menu/2027-04-30/
CATEGORIES:WeeklyMenuItems
END:VEVENT
BEGIN:VEVENT
DTSTART;VALUE=DATE:20270501
DTEND;VALUE=DATE:20270502
DTSTAMP:20260422T211511
CREATED:20221013T045940Z
LAST-MODIFIED:20221013T054136Z
UID:10002245-1809129600-1809215999@sbbake.com
SUMMARY:Saturday Menu
DESCRIPTION:White Chocolate-Matcha Cookies
URL:https://sbbake.com/event/saturday-menu/2027-05-01/
CATEGORIES:WeeklyMenuItems
END:VEVENT
BEGIN:VEVENT
DTSTART;VALUE=DATE:20270502
DTEND;VALUE=DATE:20270503
DTSTAMP:20260422T211511
CREATED:20221013T050152Z
LAST-MODIFIED:20221013T054152Z
UID:10002506-1809216000-1809302399@sbbake.com
SUMMARY:Sunday Menu
DESCRIPTION:Chocolate Chip-Brownie Cookie
URL:https://sbbake.com/event/sunday-menu/2027-05-02/
CATEGORIES:WeeklyMenuItems
END:VEVENT
END:VCALENDAR