BEGIN:VCALENDAR
VERSION:2.0
PRODID:-//sb Bake - ECPv6.15.20//NONSGML v1.0//EN
CALSCALE:GREGORIAN
METHOD:PUBLISH
X-WR-CALNAME:sb Bake
X-ORIGINAL-URL:https://sbbake.com
X-WR-CALDESC:Events for sb Bake
REFRESH-INTERVAL;VALUE=DURATION:PT1H
X-Robots-Tag:noindex
X-PUBLISHED-TTL:PT1H
BEGIN:VTIMEZONE
TZID:UTC
BEGIN:STANDARD
TZOFFSETFROM:+0000
TZOFFSETTO:+0000
TZNAME:UTC
DTSTART:20260101T000000
END:STANDARD
END:VTIMEZONE
BEGIN:VEVENT
DTSTART;VALUE=DATE:20270323
DTEND;VALUE=DATE:20270324
DTSTAMP:20260422T154853
CREATED:20221013T045211Z
LAST-MODIFIED:20221013T053353Z
UID:10001195-1805760000-1805846399@sbbake.com
SUMMARY:Tuesday Menu
DESCRIPTION:Sorry\, we couldn't find any posts. Please try a different search.
URL:https://sbbake.com/event/tuesday-menu/2027-03-23/
CATEGORIES:WeeklyMenuItems
END:VEVENT
BEGIN:VEVENT
DTSTART;VALUE=DATE:20270324
DTEND;VALUE=DATE:20270325
DTSTAMP:20260422T154853
CREATED:20221013T045340Z
LAST-MODIFIED:20221013T053706Z
UID:10001457-1805846400-1805932799@sbbake.com
SUMMARY:Wednesday Menu
DESCRIPTION:Colorful Cookies\n\n			\n		\n	\n			\n				\n\n			\n			\n	\n\n	\n\n\n\n\n\n    Banana- Caramel and Walnut Travel Cake
URL:https://sbbake.com/event/wednesday/2027-03-24/
CATEGORIES:WeeklyMenuItems
END:VEVENT
BEGIN:VEVENT
DTSTART;VALUE=DATE:20270325
DTEND;VALUE=DATE:20270326
DTSTAMP:20260422T154853
CREATED:20221013T045541Z
LAST-MODIFIED:20221013T054059Z
UID:10001718-1805932800-1806019199@sbbake.com
SUMMARY:Thursday Menu
DESCRIPTION:Irish Apple-Crumble Cake
URL:https://sbbake.com/event/thursday-menu/2027-03-25/
CATEGORIES:WeeklyMenuItems
END:VEVENT
BEGIN:VEVENT
DTSTART;VALUE=DATE:20270326
DTEND;VALUE=DATE:20270327
DTSTAMP:20260422T154853
CREATED:20221013T045724Z
LAST-MODIFIED:20221013T054127Z
UID:10001979-1806019200-1806105599@sbbake.com
SUMMARY:Friday Menu
DESCRIPTION:Mini Date-Coconut Cake- Doughnuts\n\n			\n		\n	\n			\n				\n\n			\n			\n	\n\n	\n\n\n\n\n\n    Oatmeal-Animal Cookies Pack
URL:https://sbbake.com/event/friday-menu/2027-03-26/
CATEGORIES:WeeklyMenuItems
END:VEVENT
BEGIN:VEVENT
DTSTART;VALUE=DATE:20270327
DTEND;VALUE=DATE:20270328
DTSTAMP:20260422T154853
CREATED:20221013T045940Z
LAST-MODIFIED:20221013T054136Z
UID:10002240-1806105600-1806191999@sbbake.com
SUMMARY:Saturday Menu
DESCRIPTION:White Chocolate-Matcha Cookies
URL:https://sbbake.com/event/saturday-menu/2027-03-27/
CATEGORIES:WeeklyMenuItems
END:VEVENT
BEGIN:VEVENT
DTSTART;VALUE=DATE:20270328
DTEND;VALUE=DATE:20270329
DTSTAMP:20260422T154853
CREATED:20221013T050152Z
LAST-MODIFIED:20221013T054152Z
UID:10002501-1806192000-1806278399@sbbake.com
SUMMARY:Sunday Menu
DESCRIPTION:Chocolate Chip-Brownie Cookie
URL:https://sbbake.com/event/sunday-menu/2027-03-28/
CATEGORIES:WeeklyMenuItems
END:VEVENT
BEGIN:VEVENT
DTSTART;VALUE=DATE:20270329
DTEND;VALUE=DATE:20270330
DTSTAMP:20260422T154853
CREATED:20221013T044830Z
LAST-MODIFIED:20221013T044937Z
UID:10000934-1806278400-1806364799@sbbake.com
SUMMARY:Monday Menu
DESCRIPTION:Sprinkles and Smarties Caramelize Cookies\n\n			\n		\n	\n			\n				\n\n			\n			\n	\n\n	\n\n\n\n\n\n    Dulce de leche and Nuts Caramelize Cookies\n\n			\n		\n	\n			\n				\n\n			\n			\n	\n\n	\n\n\n\n\n\n    Spice Date Cake
URL:https://sbbake.com/event/2714/2027-03-29/
CATEGORIES:WeeklyMenuItems
END:VEVENT
BEGIN:VEVENT
DTSTART;VALUE=DATE:20270330
DTEND;VALUE=DATE:20270331
DTSTAMP:20260422T154853
CREATED:20221013T045211Z
LAST-MODIFIED:20221013T053353Z
UID:10001196-1806364800-1806451199@sbbake.com
SUMMARY:Tuesday Menu
DESCRIPTION:Lemon-Blueberry Pound Cake\n\n			\n		\n	\n			\n				\n\n			\n			\n	\n\n	\n\n\n\n\n\n    Mini Orange-Cocoa Cakes
URL:https://sbbake.com/event/tuesday-menu/2027-03-30/
CATEGORIES:WeeklyMenuItems
END:VEVENT
BEGIN:VEVENT
DTSTART;VALUE=DATE:20270331
DTEND;VALUE=DATE:20270401
DTSTAMP:20260422T154853
CREATED:20221013T045340Z
LAST-MODIFIED:20221013T053706Z
UID:10001458-1806451200-1806537599@sbbake.com
SUMMARY:Wednesday Menu
DESCRIPTION:Colorful Cookies\n\n			\n		\n	\n			\n				\n\n			\n			\n	\n\n	\n\n\n\n\n\n    Banana- Caramel and Walnut Travel Cake
URL:https://sbbake.com/event/wednesday/2027-03-31/
CATEGORIES:WeeklyMenuItems
END:VEVENT
BEGIN:VEVENT
DTSTART;VALUE=DATE:20270401
DTEND;VALUE=DATE:20270402
DTSTAMP:20260422T154853
CREATED:20221013T045541Z
LAST-MODIFIED:20221013T054059Z
UID:10001719-1806537600-1806623999@sbbake.com
SUMMARY:Thursday Menu
DESCRIPTION:Irish Apple-Crumble Cake
URL:https://sbbake.com/event/thursday-menu/2027-04-01/
CATEGORIES:WeeklyMenuItems
END:VEVENT
BEGIN:VEVENT
DTSTART;VALUE=DATE:20270402
DTEND;VALUE=DATE:20270403
DTSTAMP:20260422T154853
CREATED:20221013T045724Z
LAST-MODIFIED:20221013T054127Z
UID:10001980-1806624000-1806710399@sbbake.com
SUMMARY:Friday Menu
DESCRIPTION:Mini Date-Coconut Cake- Doughnuts\n\n			\n		\n	\n			\n				\n\n			\n			\n	\n\n	\n\n\n\n\n\n    Oatmeal-Animal Cookies Pack
URL:https://sbbake.com/event/friday-menu/2027-04-02/
CATEGORIES:WeeklyMenuItems
END:VEVENT
BEGIN:VEVENT
DTSTART;VALUE=DATE:20270403
DTEND;VALUE=DATE:20270404
DTSTAMP:20260422T154853
CREATED:20221013T045940Z
LAST-MODIFIED:20221013T054136Z
UID:10002241-1806710400-1806796799@sbbake.com
SUMMARY:Saturday Menu
DESCRIPTION:White Chocolate-Matcha Cookies
URL:https://sbbake.com/event/saturday-menu/2027-04-03/
CATEGORIES:WeeklyMenuItems
END:VEVENT
BEGIN:VEVENT
DTSTART;VALUE=DATE:20270404
DTEND;VALUE=DATE:20270405
DTSTAMP:20260422T154853
CREATED:20221013T050152Z
LAST-MODIFIED:20221013T054152Z
UID:10002502-1806796800-1806883199@sbbake.com
SUMMARY:Sunday Menu
DESCRIPTION:Chocolate Chip-Brownie Cookie
URL:https://sbbake.com/event/sunday-menu/2027-04-04/
CATEGORIES:WeeklyMenuItems
END:VEVENT
BEGIN:VEVENT
DTSTART;VALUE=DATE:20270405
DTEND;VALUE=DATE:20270406
DTSTAMP:20260422T154853
CREATED:20221013T044830Z
LAST-MODIFIED:20221013T044937Z
UID:10000935-1806883200-1806969599@sbbake.com
SUMMARY:Monday Menu
DESCRIPTION:Sprinkles and Smarties Caramelize Cookies\n\n			\n		\n	\n			\n				\n\n			\n			\n	\n\n	\n\n\n\n\n\n    Dulce de leche and Nuts Caramelize Cookies\n\n			\n		\n	\n			\n				\n\n			\n			\n	\n\n	\n\n\n\n\n\n    Spice Date Cake
URL:https://sbbake.com/event/2714/2027-04-05/
CATEGORIES:WeeklyMenuItems
END:VEVENT
BEGIN:VEVENT
DTSTART;VALUE=DATE:20270406
DTEND;VALUE=DATE:20270407
DTSTAMP:20260422T154853
CREATED:20221013T045211Z
LAST-MODIFIED:20221013T053353Z
UID:10001197-1806969600-1807055999@sbbake.com
SUMMARY:Tuesday Menu
DESCRIPTION:Lemon-Blueberry Pound Cake\n\n			\n		\n	\n			\n				\n\n			\n			\n	\n\n	\n\n\n\n\n\n    Mini Orange-Cocoa Cakes
URL:https://sbbake.com/event/tuesday-menu/2027-04-06/
CATEGORIES:WeeklyMenuItems
END:VEVENT
BEGIN:VEVENT
DTSTART;VALUE=DATE:20270407
DTEND;VALUE=DATE:20270408
DTSTAMP:20260422T154853
CREATED:20221013T045340Z
LAST-MODIFIED:20221013T053706Z
UID:10001459-1807056000-1807142399@sbbake.com
SUMMARY:Wednesday Menu
DESCRIPTION:Colorful Cookies\n\n			\n		\n	\n			\n				\n\n			\n			\n	\n\n	\n\n\n\n\n\n    Banana- Caramel and Walnut Travel Cake
URL:https://sbbake.com/event/wednesday/2027-04-07/
CATEGORIES:WeeklyMenuItems
END:VEVENT
BEGIN:VEVENT
DTSTART;VALUE=DATE:20270408
DTEND;VALUE=DATE:20270409
DTSTAMP:20260422T154853
CREATED:20221013T045541Z
LAST-MODIFIED:20221013T054059Z
UID:10001720-1807142400-1807228799@sbbake.com
SUMMARY:Thursday Menu
DESCRIPTION:Irish Apple-Crumble Cake
URL:https://sbbake.com/event/thursday-menu/2027-04-08/
CATEGORIES:WeeklyMenuItems
END:VEVENT
BEGIN:VEVENT
DTSTART;VALUE=DATE:20270409
DTEND;VALUE=DATE:20270410
DTSTAMP:20260422T154853
CREATED:20221013T045724Z
LAST-MODIFIED:20221013T054127Z
UID:10001981-1807228800-1807315199@sbbake.com
SUMMARY:Friday Menu
DESCRIPTION:Mini Date-Coconut Cake- Doughnuts\n\n			\n		\n	\n			\n				\n\n			\n			\n	\n\n	\n\n\n\n\n\n    Oatmeal-Animal Cookies Pack
URL:https://sbbake.com/event/friday-menu/2027-04-09/
CATEGORIES:WeeklyMenuItems
END:VEVENT
BEGIN:VEVENT
DTSTART;VALUE=DATE:20270410
DTEND;VALUE=DATE:20270411
DTSTAMP:20260422T154853
CREATED:20221013T045940Z
LAST-MODIFIED:20221013T054136Z
UID:10002242-1807315200-1807401599@sbbake.com
SUMMARY:Saturday Menu
DESCRIPTION:White Chocolate-Matcha Cookies
URL:https://sbbake.com/event/saturday-menu/2027-04-10/
CATEGORIES:WeeklyMenuItems
END:VEVENT
BEGIN:VEVENT
DTSTART;VALUE=DATE:20270411
DTEND;VALUE=DATE:20270412
DTSTAMP:20260422T154853
CREATED:20221013T050152Z
LAST-MODIFIED:20221013T054152Z
UID:10002503-1807401600-1807487999@sbbake.com
SUMMARY:Sunday Menu
DESCRIPTION:Chocolate Chip-Brownie Cookie
URL:https://sbbake.com/event/sunday-menu/2027-04-11/
CATEGORIES:WeeklyMenuItems
END:VEVENT
BEGIN:VEVENT
DTSTART;VALUE=DATE:20270412
DTEND;VALUE=DATE:20270413
DTSTAMP:20260422T154853
CREATED:20221013T044830Z
LAST-MODIFIED:20221013T044937Z
UID:10000936-1807488000-1807574399@sbbake.com
SUMMARY:Monday Menu
DESCRIPTION:Sprinkles and Smarties Caramelize Cookies\n\n			\n		\n	\n			\n				\n\n			\n			\n	\n\n	\n\n\n\n\n\n    Dulce de leche and Nuts Caramelize Cookies\n\n			\n		\n	\n			\n				\n\n			\n			\n	\n\n	\n\n\n\n\n\n    Spice Date Cake
URL:https://sbbake.com/event/2714/2027-04-12/
CATEGORIES:WeeklyMenuItems
END:VEVENT
BEGIN:VEVENT
DTSTART;VALUE=DATE:20270413
DTEND;VALUE=DATE:20270414
DTSTAMP:20260422T154853
CREATED:20221013T045211Z
LAST-MODIFIED:20221013T053353Z
UID:10001198-1807574400-1807660799@sbbake.com
SUMMARY:Tuesday Menu
DESCRIPTION:Lemon-Blueberry Pound Cake\n\n			\n		\n	\n			\n				\n\n			\n			\n	\n\n	\n\n\n\n\n\n    Mini Orange-Cocoa Cakes
URL:https://sbbake.com/event/tuesday-menu/2027-04-13/
CATEGORIES:WeeklyMenuItems
END:VEVENT
BEGIN:VEVENT
DTSTART;VALUE=DATE:20270414
DTEND;VALUE=DATE:20270415
DTSTAMP:20260422T154853
CREATED:20221013T045340Z
LAST-MODIFIED:20221013T053706Z
UID:10001460-1807660800-1807747199@sbbake.com
SUMMARY:Wednesday Menu
DESCRIPTION:Colorful Cookies\n\n			\n		\n	\n			\n				\n\n			\n			\n	\n\n	\n\n\n\n\n\n    Banana- Caramel and Walnut Travel Cake
URL:https://sbbake.com/event/wednesday/2027-04-14/
CATEGORIES:WeeklyMenuItems
END:VEVENT
BEGIN:VEVENT
DTSTART;VALUE=DATE:20270415
DTEND;VALUE=DATE:20270416
DTSTAMP:20260422T154853
CREATED:20221013T045541Z
LAST-MODIFIED:20221013T054059Z
UID:10001721-1807747200-1807833599@sbbake.com
SUMMARY:Thursday Menu
DESCRIPTION:Irish Apple-Crumble Cake
URL:https://sbbake.com/event/thursday-menu/2027-04-15/
CATEGORIES:WeeklyMenuItems
END:VEVENT
BEGIN:VEVENT
DTSTART;VALUE=DATE:20270416
DTEND;VALUE=DATE:20270417
DTSTAMP:20260422T154853
CREATED:20221013T045724Z
LAST-MODIFIED:20221013T054127Z
UID:10001982-1807833600-1807919999@sbbake.com
SUMMARY:Friday Menu
DESCRIPTION:Mini Date-Coconut Cake- Doughnuts\n\n			\n		\n	\n			\n				\n\n			\n			\n	\n\n	\n\n\n\n\n\n    Oatmeal-Animal Cookies Pack
URL:https://sbbake.com/event/friday-menu/2027-04-16/
CATEGORIES:WeeklyMenuItems
END:VEVENT
BEGIN:VEVENT
DTSTART;VALUE=DATE:20270417
DTEND;VALUE=DATE:20270418
DTSTAMP:20260422T154853
CREATED:20221013T045940Z
LAST-MODIFIED:20221013T054136Z
UID:10002243-1807920000-1808006399@sbbake.com
SUMMARY:Saturday Menu
DESCRIPTION:White Chocolate-Matcha Cookies
URL:https://sbbake.com/event/saturday-menu/2027-04-17/
CATEGORIES:WeeklyMenuItems
END:VEVENT
BEGIN:VEVENT
DTSTART;VALUE=DATE:20270418
DTEND;VALUE=DATE:20270419
DTSTAMP:20260422T154853
CREATED:20221013T050152Z
LAST-MODIFIED:20221013T054152Z
UID:10002504-1808006400-1808092799@sbbake.com
SUMMARY:Sunday Menu
DESCRIPTION:Chocolate Chip-Brownie Cookie
URL:https://sbbake.com/event/sunday-menu/2027-04-18/
CATEGORIES:WeeklyMenuItems
END:VEVENT
BEGIN:VEVENT
DTSTART;VALUE=DATE:20270419
DTEND;VALUE=DATE:20270420
DTSTAMP:20260422T154853
CREATED:20221013T044830Z
LAST-MODIFIED:20221013T044937Z
UID:10000937-1808092800-1808179199@sbbake.com
SUMMARY:Monday Menu
DESCRIPTION:Sprinkles and Smarties Caramelize Cookies\n\n			\n		\n	\n			\n				\n\n			\n			\n	\n\n	\n\n\n\n\n\n    Dulce de leche and Nuts Caramelize Cookies\n\n			\n		\n	\n			\n				\n\n			\n			\n	\n\n	\n\n\n\n\n\n    Spice Date Cake
URL:https://sbbake.com/event/2714/2027-04-19/
CATEGORIES:WeeklyMenuItems
END:VEVENT
BEGIN:VEVENT
DTSTART;VALUE=DATE:20270420
DTEND;VALUE=DATE:20270421
DTSTAMP:20260422T154853
CREATED:20221013T045211Z
LAST-MODIFIED:20221013T053353Z
UID:10001199-1808179200-1808265599@sbbake.com
SUMMARY:Tuesday Menu
DESCRIPTION:Lemon-Blueberry Pound Cake\n\n			\n		\n	\n			\n				\n\n			\n			\n	\n\n	\n\n\n\n\n\n    Mini Orange-Cocoa Cakes
URL:https://sbbake.com/event/tuesday-menu/2027-04-20/
CATEGORIES:WeeklyMenuItems
END:VEVENT
BEGIN:VEVENT
DTSTART;VALUE=DATE:20270421
DTEND;VALUE=DATE:20270422
DTSTAMP:20260422T154853
CREATED:20221013T045340Z
LAST-MODIFIED:20221013T053706Z
UID:10001461-1808265600-1808351999@sbbake.com
SUMMARY:Wednesday Menu
DESCRIPTION:Colorful Cookies\n\n			\n		\n	\n			\n				\n\n			\n			\n	\n\n	\n\n\n\n\n\n    Banana- Caramel and Walnut Travel Cake
URL:https://sbbake.com/event/wednesday/2027-04-21/
CATEGORIES:WeeklyMenuItems
END:VEVENT
END:VCALENDAR