BEGIN:VCALENDAR
VERSION:2.0
PRODID:-//sb Bake - ECPv6.15.20//NONSGML v1.0//EN
CALSCALE:GREGORIAN
METHOD:PUBLISH
X-ORIGINAL-URL:https://sbbake.com
X-WR-CALDESC:Events for sb Bake
REFRESH-INTERVAL;VALUE=DURATION:PT1H
X-Robots-Tag:noindex
X-PUBLISHED-TTL:PT1H
BEGIN:VTIMEZONE
TZID:UTC
BEGIN:STANDARD
TZOFFSETFROM:+0000
TZOFFSETTO:+0000
TZNAME:UTC
DTSTART:20260101T000000
END:STANDARD
END:VTIMEZONE
BEGIN:VEVENT
DTSTART;VALUE=DATE:20270917
DTEND;VALUE=DATE:20270918
DTSTAMP:20260424T075825
CREATED:20221013T045724Z
LAST-MODIFIED:20221013T054127Z
UID:10002004-1821139200-1821225599@sbbake.com
SUMMARY:Friday Menu
DESCRIPTION:Sorry\, we couldn't find any posts. Please try a different search.
URL:https://sbbake.com/event/friday-menu/2027-09-17/
CATEGORIES:WeeklyMenuItems
END:VEVENT
BEGIN:VEVENT
DTSTART;VALUE=DATE:20270918
DTEND;VALUE=DATE:20270919
DTSTAMP:20260424T075825
CREATED:20221013T045940Z
LAST-MODIFIED:20221013T054136Z
UID:10002265-1821225600-1821311999@sbbake.com
SUMMARY:Saturday Menu
DESCRIPTION:White Chocolate-Matcha Cookies
URL:https://sbbake.com/event/saturday-menu/2027-09-18/
CATEGORIES:WeeklyMenuItems
END:VEVENT
BEGIN:VEVENT
DTSTART;VALUE=DATE:20270919
DTEND;VALUE=DATE:20270920
DTSTAMP:20260424T075825
CREATED:20221013T050152Z
LAST-MODIFIED:20221013T054152Z
UID:10002526-1821312000-1821398399@sbbake.com
SUMMARY:Sunday Menu
DESCRIPTION:Chocolate Chip-Brownie Cookie
URL:https://sbbake.com/event/sunday-menu/2027-09-19/
CATEGORIES:WeeklyMenuItems
END:VEVENT
BEGIN:VEVENT
DTSTART;VALUE=DATE:20270920
DTEND;VALUE=DATE:20270921
DTSTAMP:20260424T075825
CREATED:20221013T044830Z
LAST-MODIFIED:20221013T044937Z
UID:10000959-1821398400-1821484799@sbbake.com
SUMMARY:Monday Menu
DESCRIPTION:Sprinkles and Smarties Caramelize Cookies\n\n			\n		\n	\n			\n				\n\n			\n			\n	\n\n	\n\n\n\n\n\n    Dulce de leche and Nuts Caramelize Cookies\n\n			\n		\n	\n			\n				\n\n			\n			\n	\n\n	\n\n\n\n\n\n    Spice Date Cake
URL:https://sbbake.com/event/2714/2027-09-20/
CATEGORIES:WeeklyMenuItems
END:VEVENT
BEGIN:VEVENT
DTSTART;VALUE=DATE:20270921
DTEND;VALUE=DATE:20270922
DTSTAMP:20260424T075825
CREATED:20221013T045211Z
LAST-MODIFIED:20221013T053353Z
UID:10001221-1821484800-1821571199@sbbake.com
SUMMARY:Tuesday Menu
DESCRIPTION:Lemon-Blueberry Pound Cake\n\n			\n		\n	\n			\n				\n\n			\n			\n	\n\n	\n\n\n\n\n\n    Mini Orange-Cocoa Cakes
URL:https://sbbake.com/event/tuesday-menu/2027-09-21/
CATEGORIES:WeeklyMenuItems
END:VEVENT
BEGIN:VEVENT
DTSTART;VALUE=DATE:20270922
DTEND;VALUE=DATE:20270923
DTSTAMP:20260424T075825
CREATED:20221013T045340Z
LAST-MODIFIED:20221013T053706Z
UID:10001483-1821571200-1821657599@sbbake.com
SUMMARY:Wednesday Menu
DESCRIPTION:Colorful Cookies\n\n			\n		\n	\n			\n				\n\n			\n			\n	\n\n	\n\n\n\n\n\n    Banana- Caramel and Walnut Travel Cake
URL:https://sbbake.com/event/wednesday/2027-09-22/
CATEGORIES:WeeklyMenuItems
END:VEVENT
BEGIN:VEVENT
DTSTART;VALUE=DATE:20270923
DTEND;VALUE=DATE:20270924
DTSTAMP:20260424T075825
CREATED:20221013T045541Z
LAST-MODIFIED:20221013T054059Z
UID:10001744-1821657600-1821743999@sbbake.com
SUMMARY:Thursday Menu
DESCRIPTION:Irish Apple-Crumble Cake
URL:https://sbbake.com/event/thursday-menu/2027-09-23/
CATEGORIES:WeeklyMenuItems
END:VEVENT
BEGIN:VEVENT
DTSTART;VALUE=DATE:20270924
DTEND;VALUE=DATE:20270925
DTSTAMP:20260424T075825
CREATED:20221013T045724Z
LAST-MODIFIED:20221013T054127Z
UID:10002005-1821744000-1821830399@sbbake.com
SUMMARY:Friday Menu
DESCRIPTION:Mini Date-Coconut Cake- Doughnuts\n\n			\n		\n	\n			\n				\n\n			\n			\n	\n\n	\n\n\n\n\n\n    Oatmeal-Animal Cookies Pack
URL:https://sbbake.com/event/friday-menu/2027-09-24/
CATEGORIES:WeeklyMenuItems
END:VEVENT
BEGIN:VEVENT
DTSTART;VALUE=DATE:20270925
DTEND;VALUE=DATE:20270926
DTSTAMP:20260424T075825
CREATED:20221013T045940Z
LAST-MODIFIED:20221013T054136Z
UID:10002266-1821830400-1821916799@sbbake.com
SUMMARY:Saturday Menu
DESCRIPTION:White Chocolate-Matcha Cookies
URL:https://sbbake.com/event/saturday-menu/2027-09-25/
CATEGORIES:WeeklyMenuItems
END:VEVENT
BEGIN:VEVENT
DTSTART;VALUE=DATE:20270926
DTEND;VALUE=DATE:20270927
DTSTAMP:20260424T075825
CREATED:20221013T050152Z
LAST-MODIFIED:20221013T054152Z
UID:10002527-1821916800-1822003199@sbbake.com
SUMMARY:Sunday Menu
DESCRIPTION:Chocolate Chip-Brownie Cookie
URL:https://sbbake.com/event/sunday-menu/2027-09-26/
CATEGORIES:WeeklyMenuItems
END:VEVENT
BEGIN:VEVENT
DTSTART;VALUE=DATE:20270927
DTEND;VALUE=DATE:20270928
DTSTAMP:20260424T075825
CREATED:20221013T044830Z
LAST-MODIFIED:20221013T044937Z
UID:10000960-1822003200-1822089599@sbbake.com
SUMMARY:Monday Menu
DESCRIPTION:Sprinkles and Smarties Caramelize Cookies\n\n			\n		\n	\n			\n				\n\n			\n			\n	\n\n	\n\n\n\n\n\n    Dulce de leche and Nuts Caramelize Cookies\n\n			\n		\n	\n			\n				\n\n			\n			\n	\n\n	\n\n\n\n\n\n    Spice Date Cake
URL:https://sbbake.com/event/2714/2027-09-27/
CATEGORIES:WeeklyMenuItems
END:VEVENT
BEGIN:VEVENT
DTSTART;VALUE=DATE:20270928
DTEND;VALUE=DATE:20270929
DTSTAMP:20260424T075825
CREATED:20221013T045211Z
LAST-MODIFIED:20221013T053353Z
UID:10001222-1822089600-1822175999@sbbake.com
SUMMARY:Tuesday Menu
DESCRIPTION:Lemon-Blueberry Pound Cake\n\n			\n		\n	\n			\n				\n\n			\n			\n	\n\n	\n\n\n\n\n\n    Mini Orange-Cocoa Cakes
URL:https://sbbake.com/event/tuesday-menu/2027-09-28/
CATEGORIES:WeeklyMenuItems
END:VEVENT
BEGIN:VEVENT
DTSTART;VALUE=DATE:20270929
DTEND;VALUE=DATE:20270930
DTSTAMP:20260424T075825
CREATED:20221013T045340Z
LAST-MODIFIED:20221013T053706Z
UID:10001484-1822176000-1822262399@sbbake.com
SUMMARY:Wednesday Menu
DESCRIPTION:Colorful Cookies\n\n			\n		\n	\n			\n				\n\n			\n			\n	\n\n	\n\n\n\n\n\n    Banana- Caramel and Walnut Travel Cake
URL:https://sbbake.com/event/wednesday/2027-09-29/
CATEGORIES:WeeklyMenuItems
END:VEVENT
BEGIN:VEVENT
DTSTART;VALUE=DATE:20270930
DTEND;VALUE=DATE:20271001
DTSTAMP:20260424T075825
CREATED:20221013T045541Z
LAST-MODIFIED:20221013T054059Z
UID:10001745-1822262400-1822348799@sbbake.com
SUMMARY:Thursday Menu
DESCRIPTION:Irish Apple-Crumble Cake
URL:https://sbbake.com/event/thursday-menu/2027-09-30/
CATEGORIES:WeeklyMenuItems
END:VEVENT
BEGIN:VEVENT
DTSTART;VALUE=DATE:20271001
DTEND;VALUE=DATE:20271002
DTSTAMP:20260424T075825
CREATED:20221013T045724Z
LAST-MODIFIED:20221013T054127Z
UID:10002006-1822348800-1822435199@sbbake.com
SUMMARY:Friday Menu
DESCRIPTION:Mini Date-Coconut Cake- Doughnuts\n\n			\n		\n	\n			\n				\n\n			\n			\n	\n\n	\n\n\n\n\n\n    Oatmeal-Animal Cookies Pack
URL:https://sbbake.com/event/friday-menu/2027-10-01/
CATEGORIES:WeeklyMenuItems
END:VEVENT
BEGIN:VEVENT
DTSTART;VALUE=DATE:20271002
DTEND;VALUE=DATE:20271003
DTSTAMP:20260424T075825
CREATED:20221013T045940Z
LAST-MODIFIED:20221013T054136Z
UID:10002267-1822435200-1822521599@sbbake.com
SUMMARY:Saturday Menu
DESCRIPTION:White Chocolate-Matcha Cookies
URL:https://sbbake.com/event/saturday-menu/2027-10-02/
CATEGORIES:WeeklyMenuItems
END:VEVENT
BEGIN:VEVENT
DTSTART;VALUE=DATE:20271003
DTEND;VALUE=DATE:20271004
DTSTAMP:20260424T075825
CREATED:20221013T050152Z
LAST-MODIFIED:20221013T054152Z
UID:10002528-1822521600-1822607999@sbbake.com
SUMMARY:Sunday Menu
DESCRIPTION:Chocolate Chip-Brownie Cookie
URL:https://sbbake.com/event/sunday-menu/2027-10-03/
CATEGORIES:WeeklyMenuItems
END:VEVENT
BEGIN:VEVENT
DTSTART;VALUE=DATE:20271004
DTEND;VALUE=DATE:20271005
DTSTAMP:20260424T075825
CREATED:20221013T044830Z
LAST-MODIFIED:20221013T044937Z
UID:10000961-1822608000-1822694399@sbbake.com
SUMMARY:Monday Menu
DESCRIPTION:Sprinkles and Smarties Caramelize Cookies\n\n			\n		\n	\n			\n				\n\n			\n			\n	\n\n	\n\n\n\n\n\n    Dulce de leche and Nuts Caramelize Cookies\n\n			\n		\n	\n			\n				\n\n			\n			\n	\n\n	\n\n\n\n\n\n    Spice Date Cake
URL:https://sbbake.com/event/2714/2027-10-04/
CATEGORIES:WeeklyMenuItems
END:VEVENT
BEGIN:VEVENT
DTSTART;VALUE=DATE:20271005
DTEND;VALUE=DATE:20271006
DTSTAMP:20260424T075825
CREATED:20221013T045211Z
LAST-MODIFIED:20221013T053353Z
UID:10001223-1822694400-1822780799@sbbake.com
SUMMARY:Tuesday Menu
DESCRIPTION:Lemon-Blueberry Pound Cake\n\n			\n		\n	\n			\n				\n\n			\n			\n	\n\n	\n\n\n\n\n\n    Mini Orange-Cocoa Cakes
URL:https://sbbake.com/event/tuesday-menu/2027-10-05/
CATEGORIES:WeeklyMenuItems
END:VEVENT
BEGIN:VEVENT
DTSTART;VALUE=DATE:20271006
DTEND;VALUE=DATE:20271007
DTSTAMP:20260424T075825
CREATED:20221013T045340Z
LAST-MODIFIED:20221013T053706Z
UID:10001485-1822780800-1822867199@sbbake.com
SUMMARY:Wednesday Menu
DESCRIPTION:Colorful Cookies\n\n			\n		\n	\n			\n				\n\n			\n			\n	\n\n	\n\n\n\n\n\n    Banana- Caramel and Walnut Travel Cake
URL:https://sbbake.com/event/wednesday/2027-10-06/
CATEGORIES:WeeklyMenuItems
END:VEVENT
BEGIN:VEVENT
DTSTART;VALUE=DATE:20271007
DTEND;VALUE=DATE:20271008
DTSTAMP:20260424T075825
CREATED:20221013T045541Z
LAST-MODIFIED:20221013T054059Z
UID:10001746-1822867200-1822953599@sbbake.com
SUMMARY:Thursday Menu
DESCRIPTION:Irish Apple-Crumble Cake
URL:https://sbbake.com/event/thursday-menu/2027-10-07/
CATEGORIES:WeeklyMenuItems
END:VEVENT
BEGIN:VEVENT
DTSTART;VALUE=DATE:20271008
DTEND;VALUE=DATE:20271009
DTSTAMP:20260424T075825
CREATED:20221013T045724Z
LAST-MODIFIED:20221013T054127Z
UID:10002007-1822953600-1823039999@sbbake.com
SUMMARY:Friday Menu
DESCRIPTION:Mini Date-Coconut Cake- Doughnuts\n\n			\n		\n	\n			\n				\n\n			\n			\n	\n\n	\n\n\n\n\n\n    Oatmeal-Animal Cookies Pack
URL:https://sbbake.com/event/friday-menu/2027-10-08/
CATEGORIES:WeeklyMenuItems
END:VEVENT
BEGIN:VEVENT
DTSTART;VALUE=DATE:20271009
DTEND;VALUE=DATE:20271010
DTSTAMP:20260424T075825
CREATED:20221013T045940Z
LAST-MODIFIED:20221013T054136Z
UID:10002268-1823040000-1823126399@sbbake.com
SUMMARY:Saturday Menu
DESCRIPTION:White Chocolate-Matcha Cookies
URL:https://sbbake.com/event/saturday-menu/2027-10-09/
CATEGORIES:WeeklyMenuItems
END:VEVENT
BEGIN:VEVENT
DTSTART;VALUE=DATE:20271010
DTEND;VALUE=DATE:20271011
DTSTAMP:20260424T075825
CREATED:20221013T050152Z
LAST-MODIFIED:20221013T054152Z
UID:10002529-1823126400-1823212799@sbbake.com
SUMMARY:Sunday Menu
DESCRIPTION:Chocolate Chip-Brownie Cookie
URL:https://sbbake.com/event/sunday-menu/2027-10-10/
CATEGORIES:WeeklyMenuItems
END:VEVENT
BEGIN:VEVENT
DTSTART;VALUE=DATE:20271011
DTEND;VALUE=DATE:20271012
DTSTAMP:20260424T075825
CREATED:20221013T044830Z
LAST-MODIFIED:20221013T044937Z
UID:10000962-1823212800-1823299199@sbbake.com
SUMMARY:Monday Menu
DESCRIPTION:Sprinkles and Smarties Caramelize Cookies\n\n			\n		\n	\n			\n				\n\n			\n			\n	\n\n	\n\n\n\n\n\n    Dulce de leche and Nuts Caramelize Cookies\n\n			\n		\n	\n			\n				\n\n			\n			\n	\n\n	\n\n\n\n\n\n    Spice Date Cake
URL:https://sbbake.com/event/2714/2027-10-11/
CATEGORIES:WeeklyMenuItems
END:VEVENT
BEGIN:VEVENT
DTSTART;VALUE=DATE:20271012
DTEND;VALUE=DATE:20271013
DTSTAMP:20260424T075826
CREATED:20221013T045211Z
LAST-MODIFIED:20221013T053353Z
UID:10001224-1823299200-1823385599@sbbake.com
SUMMARY:Tuesday Menu
DESCRIPTION:Lemon-Blueberry Pound Cake\n\n			\n		\n	\n			\n				\n\n			\n			\n	\n\n	\n\n\n\n\n\n    Mini Orange-Cocoa Cakes
URL:https://sbbake.com/event/tuesday-menu/2027-10-12/
CATEGORIES:WeeklyMenuItems
END:VEVENT
END:VCALENDAR